{
 "currentVersion": 10.71,
 "serviceDescription": "This layer provides landslide hazard information for regional planning and can be used to identify areas where more detailed landslide mapping is needed.\n\nFor more information go to: DOGAMI<\/font><\/b><\/a>",
 "name": "Public/Landslide_Susceptibility",
 "description": "This layer provides landslide hazard information for regional planning and can be used to identify areas where more detailed landslide mapping is needed.\n\nFor more information go to: DOGAMI<\/font><\/b><\/a>",
 "extent": {
  "xmin": -1.3892878600882703E7,
  "ymin": 5150414.913836045,
  "xmax": -1.2960178600886434E7,
  "ymax": 5824394.913833349,
  "spatialReference": {
   "wkid": 102100,
   "latestWkid": 3857
  }
 },
 "initialExtent": {
  "xmin": -1.3892878600882703E7,
  "ymin": 5150414.913836045,
  "xmax": -1.2960178600886434E7,
  "ymax": 5824394.913833349,
  "spatialReference": {
   "wkid": 102100,
   "latestWkid": 3857
  }
 },
 "fullExtent": {
  "xmin": -1.3892878600882703E7,
  "ymin": 5150414.913836045,
  "xmax": -1.2960178600886434E7,
  "ymax": 5824394.913833349,
  "spatialReference": {
   "wkid": 102100,
   "latestWkid": 3857
  }
 },
 "pixelSizeX": 29.999999999879996,
 "pixelSizeY": 29.99999999987999,
 "bandCount": 3,
 "pixelType": "U8",
 "minPixelSize": 0,
 "maxPixelSize": 0,
 "copyrightText": "",
 "serviceDataType": "esriImageServiceDataTypeRGB",
 "minValues": [],
 "maxValues": [],
 "meanValues": [],
 "stdvValues": [],
 "objectIdField": "",
 "fields": [],
 "capabilities": "Mensuration,Image,Metadata",
 "defaultMosaicMethod": "Center",
 "allowedMosaicMethods": "",
 "sortField": "",
 "sortValue": null,
 "mosaicOperator": "First",
 "defaultCompressionQuality": 75,
 "defaultResamplingMethod": "Bilinear",
 "maxImageHeight": 4100,
 "maxImageWidth": 15000,
 "allowRasterFunction": true,
 "rasterFunctionInfos": [
  {
   "name": "None",
   "description": "",
   "help": ""
  }
 ],
 "rasterTypeInfos": [
  {
   "name": "Raster Dataset",
   "description": "Supports all ArcGIS Raster Datasets",
   "help": ""
  }
 ],
 "mensurationCapabilities": "Basic",
 "hasHistograms": false,
 "hasColormap": false,
 "hasRasterAttributeTable": false,
 "minScale": 0,
 "maxScale": 0,
 "exportTilesAllowed": false,
 "hasMultidimensions": false,
 "supportsStatistics": false,
 "supportsAdvancedQueries": false,
 "editFieldsInfo": null,
 "ownershipBasedAccessControlForRasters": null,
 "allowComputeTiePoints": false,
 "useStandardizedQueries": true,
 "advancedQueryCapabilities": {
  "useStandardizedQueries": true,
  "supportsStatistics": false,
  "supportsOrderBy": false,
  "supportsDistinct": false,
  "supportsPagination": false
 },
 "spatialReference": {
  "wkid": 102100,
  "latestWkid": 3857
 }
}
