{
 "currentVersion": 10.71,
 "serviceDescription": "DIGITAL_TERRAIN_MODEL_MOSAIC_Layer",
 "name": "lidar/DIGITAL_TERRAIN_MODEL_ELEVATION",
 "description": "DIGITAL_TERRAIN_MODEL_MOSAIC_Layer",
 "extent": {
  "xmin": 220748.20833332837,
  "ymin": 10683.041666668141,
  "xmax": 2358182.2083333284,
  "ymax": 1764618.0416666681,
  "spatialReference": {
   "wkid": 102970,
   "latestWkid": 6557
  }
 },
 "initialExtent": {
  "xmin": 220748.20833332837,
  "ymin": 10683.041666668141,
  "xmax": 2358182.2083333284,
  "ymax": 1764618.0416666681,
  "spatialReference": {
   "wkid": 102970,
   "latestWkid": 6557
  }
 },
 "fullExtent": {
  "xmin": 220748.20833332837,
  "ymin": 10683.041666668141,
  "xmax": 2358182.2083333284,
  "ymax": 1764618.0416666681,
  "spatialReference": {
   "wkid": 102970,
   "latestWkid": 6557
  }
 },
 "pixelSizeX": 3,
 "pixelSizeY": 3,
 "bandCount": 3,
 "pixelType": "U8",
 "minPixelSize": 0,
 "maxPixelSize": 0,
 "copyrightText": "",
 "serviceDataType": "esriImageServiceDataTypeRGB",
 "minValues": [],
 "maxValues": [],
 "meanValues": [],
 "stdvValues": [],
 "objectIdField": "",
 "fields": [],
 "capabilities": "Image,Metadata,Mensuration",
 "defaultMosaicMethod": "Center",
 "allowedMosaicMethods": "",
 "sortField": "",
 "sortValue": null,
 "mosaicOperator": "First",
 "defaultCompressionQuality": 75,
 "defaultResamplingMethod": "Bilinear",
 "maxImageHeight": 4100,
 "maxImageWidth": 15000,
 "allowRasterFunction": true,
 "rasterFunctionInfos": [
  {
   "name": "None",
   "description": "",
   "help": ""
  }
 ],
 "rasterTypeInfos": [
  {
   "name": "Raster Dataset",
   "description": "Supports all ArcGIS Raster Datasets",
   "help": ""
  }
 ],
 "mensurationCapabilities": "Basic",
 "hasHistograms": false,
 "hasColormap": false,
 "hasRasterAttributeTable": false,
 "minScale": 0,
 "maxScale": 0,
 "exportTilesAllowed": false,
 "hasMultidimensions": false,
 "supportsStatistics": false,
 "supportsAdvancedQueries": false,
 "editFieldsInfo": null,
 "ownershipBasedAccessControlForRasters": null,
 "allowComputeTiePoints": false,
 "useStandardizedQueries": true,
 "advancedQueryCapabilities": {
  "useStandardizedQueries": true,
  "supportsStatistics": false,
  "supportsOrderBy": false,
  "supportsDistinct": false,
  "supportsPagination": false
 },
 "spatialReference": {
  "wkid": 102970,
  "latestWkid": 6557
 }
}
