View In:
ArcGIS JavaScript
ArcGIS Online Map Viewer
ArcGIS Earth
Service Description: Public/XXL1_Flow_Depth
Name: Public/XXL1_Flow_Depth
Description:
Single Fused Map Cache: false
Extent:
XMin: 213858.88090515134
YMin: 112442.31298791943
XMax: 501318.88090515137
YMax: 1665042.3129879194
Spatial Reference: 0
(0)
LatestVCSWkid(0)
Initial Extent:
XMin: 213858.88090515134
YMin: 112442.31298791943
XMax: 501318.88090515137
YMax: 1665042.3129879194
Spatial Reference: 0
(0)
LatestVCSWkid(0)
Full Extent:
XMin: 213858.88090515134
YMin: 112442.31298791943
XMax: 501318.88090515137
YMax: 1665042.3129879194
Spatial Reference: 0
(0)
LatestVCSWkid(0)
Pixel Size X: 20.0
Pixel Size Y: 20.0
Band Count: 1
Pixel Type: F32
RasterFunction Infos: {"rasterFunctionInfos": [{
"name": "None",
"description": "",
"help": ""
}]}
Mensuration Capabilities: Basic
Inspection Capabilities:
Has Histograms: true
Has Colormap: false
Has Multi Dimensions : false
Rendering Rule:
Min Scale: 0
Max Scale: 0
Copyright Text:
Service Data Type: esriImageServiceDataTypeGeneric
Min Values: 1.7835152732459E-7
Max Values: 95.294509887695
Mean Values: 18.804151215711
Standard Deviation Values: 12.930958592992
Object ID Field:
Fields:
None
Default Mosaic Method: Center
Allowed Mosaic Methods:
SortField:
SortValue: null
Mosaic Operator: First
Default Compression Quality: 75
Default Resampling Method: Bilinear
Max Record Count: null
Max Image Height: 4100
Max Image Width: 15000
Max Download Image Count: null
Max Mosaic Image Count: null
Allow Raster Function: true
Allow Copy: true
Allow Analysis: true
Allow Compute TiePoints: false
Supports Statistics: false
Supports Advanced Queries: false
Use StandardizedQueries: true
Raster Type Infos:
Name: Raster Dataset
Description: Supports all ArcGIS Raster Datasets
Help:
Has Raster Attribute Table: false
Edit Fields Info: null
Ownership Based AccessControl For Rasters: null
Child Resources:
Info
Histograms
Statistics
Key Properties
Legend
Raster Function Infos
Supported Operations:
Export Image
Identify
Measure
Compute Histograms
Compute Statistics Histograms
Get Samples
Compute Class Statistics
Query Boundary
Compute Pixel Location
Compute Angles
Validate
Project