View In:
ArcGIS JavaScript
ArcGIS Online Map Viewer
ArcGIS Earth
Service Description: Tsunami/AKMax_Max_Vel_Kn
Name: Tsunami/AKMax_Max_Vel_Kn
Description:
Single Fused Map Cache: false
Extent:
XMin: -116141.11909447765
YMin: 112442.3129901397
XMax: 501318.8809055224
YMax: 1677542.3129901397
Spatial Reference: 102970
(6557)
LatestVCSWkid(0)
Initial Extent:
XMin: -116141.11909447765
YMin: 112442.3129901397
XMax: 501318.8809055224
YMax: 1677542.3129901397
Spatial Reference: 102970
(6557)
LatestVCSWkid(0)
Full Extent:
XMin: -116141.11909447765
YMin: 112442.3129901397
XMax: 501318.8809055224
YMax: 1677542.3129901397
Spatial Reference: 102970
(6557)
LatestVCSWkid(0)
Pixel Size X: 20.0
Pixel Size Y: 20.0
Band Count: 1
Pixel Type: F32
RasterFunction Infos: {"rasterFunctionInfos": [{
"name": "None",
"description": "",
"help": ""
}]}
Mensuration Capabilities: Basic
Inspection Capabilities:
Has Histograms: true
Has Colormap: false
Has Multi Dimensions : false
Rendering Rule:
Min Scale: 0
Max Scale: 0
Resampling: false
Copyright Text: Oregon Department of Geology & Mineral Industries
Service Data Type: esriImageServiceDataTypeGeneric
Min Values: 0.09401622414588928
Max Values: 48.04229053854942
Mean Values: 3.5138713023099046
Standard Deviation Values: 2.8800194109606485
Object ID Field:
Fields:
None
Default Mosaic Method: Center
Allowed Mosaic Methods:
SortField:
SortValue: null
Mosaic Operator: First
Default Compression Quality: 75
Default Resampling Method: Bilinear
Max Record Count: null
Max Image Height: 4100
Max Image Width: 15000
Max Download Image Count: null
Max Mosaic Image Count: null
Allow Raster Function: true
Allow Copy: true
Allow Analysis: true
Allow Compute TiePoints: false
Supports Statistics: false
Supports Advanced Queries: false
Use StandardizedQueries: true
Raster Type Infos:
Name: Raster Dataset
Description: Supports all ArcGIS Raster Datasets
Help:
Has Raster Attribute Table: false
Edit Fields Info: null
Ownership Based AccessControl For Rasters: null
Child Resources:
Info
Histograms
Statistics
Key Properties
Legend
Raster Function Infos
Supported Operations:
Export Image
Identify
Measure
Compute Histograms
Compute Statistics Histograms
Get Samples
Compute Class Statistics
Query Boundary
Compute Pixel Location
Compute Angles
Validate
Project