View In:
ArcGIS JavaScript
ArcGIS Online Map Viewer
ArcGIS Earth
Service Description: Tsunami/Wave_Arrival_XXL1_minutes
Name: Tsunami/Wave_Arrival_XXL1_minutes
Description:
Single Fused Map Cache: false
Extent:
XMin: 219302.3581288089
YMin: 113708.9855504795
XMax: 711962.3581288089
YMax: 1695228.9855504795
Spatial Reference: 102970
(6557)
LatestVCSWkid(0)
Initial Extent:
XMin: 219302.3581288089
YMin: 113708.9855504795
XMax: 711962.3581288089
YMax: 1695228.9855504795
Spatial Reference: 102970
(6557)
LatestVCSWkid(0)
Full Extent:
XMin: 219302.3581288089
YMin: 113708.9855504795
XMax: 711962.3581288089
YMax: 1695228.9855504795
Spatial Reference: 102970
(6557)
LatestVCSWkid(0)
Pixel Size X: 20.0
Pixel Size Y: 20.0
Band Count: 1
Pixel Type: F32
RasterFunction Infos: {"rasterFunctionInfos": [{
"name": "None",
"description": "",
"help": ""
}]}
Mensuration Capabilities: Basic
Inspection Capabilities:
Has Histograms: true
Has Colormap: false
Has Multi Dimensions : false
Rendering Rule:
Min Scale: 0
Max Scale: 0
Resampling: false
Copyright Text: Oregon Department of Geology & Mineral Industries
Service Data Type: esriImageServiceDataTypeGeneric
Min Values: 1.1666666269302368
Max Values: 240.66482543945312
Mean Values: 39.522833247174944
Standard Deviation Values: 36.0579164092209
Object ID Field:
Fields:
None
Default Mosaic Method: Center
Allowed Mosaic Methods:
SortField:
SortValue: null
Mosaic Operator: First
Default Compression Quality: 75
Default Resampling Method: Bilinear
Max Record Count: null
Max Image Height: 4100
Max Image Width: 15000
Max Download Image Count: null
Max Mosaic Image Count: null
Allow Raster Function: true
Allow Copy: true
Allow Analysis: true
Allow Compute TiePoints: false
Supports Statistics: false
Supports Advanced Queries: false
Use StandardizedQueries: true
Raster Type Infos:
Name: Raster Dataset
Description: Supports all ArcGIS Raster Datasets
Help:
Has Raster Attribute Table: false
Edit Fields Info: null
Ownership Based AccessControl For Rasters: null
Child Resources:
Info
Histograms
Statistics
Key Properties
Legend
Raster Function Infos
Supported Operations:
Export Image
Identify
Measure
Compute Histograms
Compute Statistics Histograms
Get Samples
Compute Class Statistics
Query Boundary
Compute Pixel Location
Compute Angles
Validate
Project