View In:
ArcGIS JavaScript
ArcGIS Online Map Viewer
ArcGIS Earth
Service Description: lidar/CANOPY_HEIGHT_MODEL_MOSAIC
Name: lidar/CANOPY_HEIGHT_MODEL_MOSAIC
Description:
Single Fused Map Cache: false
Extent:
XMin: 220748.20833332837
YMin: 10683.951771646738
XMax: 2953925.2083333284
YMax: 2695020.9517716467
Spatial Reference: 102970
(6557)
VCSWkid(105703)
LatestVCSWkid(6360)
Initial Extent:
XMin: 220748.20833332837
YMin: 10683.951771646738
XMax: 2953925.2083333284
YMax: 2695020.9517716467
Spatial Reference: 102970
(6557)
VCSWkid(105703)
LatestVCSWkid(6360)
Full Extent:
XMin: 220748.20833332837
YMin: 10683.951771646738
XMax: 2953925.2083333284
YMax: 2695020.9517716467
Spatial Reference: 102970
(6557)
VCSWkid(105703)
LatestVCSWkid(6360)
Time Info:
Start Time Field: ZOrder
End Time Field: ZOrder
Time Extent:
[2002/01/01 00:00:00 UTC, 2105/01/01 00:00:00 UTC]
Time Reference:
N/A
Pixel Size X: 3.0
Pixel Size Y: 3.0
Band Count: 1
Pixel Type: F32
RasterFunction Infos: {"rasterFunctionInfos": [{
"name": "None",
"description": "A No-Op Function.",
"help": ""
}]}
Mensuration Capabilities: Basic
Inspection Capabilities:
Has Histograms: true
Has Colormap: false
Has Multi Dimensions : false
Rendering Rule:
Min Scale: 0
Max Scale: 0
Resampling: false
Copyright Text: Oregon Department of Geology and Mineral Industries
Service Data Type: esriImageServiceDataTypeElevation
Min Values: -118.11355797946457
Max Values: 984.3782903403044
Mean Values: 30.94122037058168
Standard Deviation Values: 41.557238793461465
Object ID Field: OBJECTID
Fields:
-
OBJECTID
(
type: esriFieldTypeOID, alias: OBJECTID
)
-
Shape
(
type: esriFieldTypeGeometry, alias: Shape
)
-
Name
(
type: esriFieldTypeString, alias: Name, length: 200
)
-
MinPS
(
type: esriFieldTypeDouble, alias: MinPS
)
-
MaxPS
(
type: esriFieldTypeDouble, alias: MaxPS
)
-
LowPS
(
type: esriFieldTypeDouble, alias: LowPS
)
-
HighPS
(
type: esriFieldTypeDouble, alias: HighPS
)
-
Category
(
type: esriFieldTypeInteger, alias: Category
, Coded Values:
[0: Unknown]
, [1: Primary]
, [2: Overview]
, ...6 more...
)
-
ZOrder
(
type: esriFieldTypeInteger, alias: ZOrder
)
Default Mosaic Method: ByAttribute
Allowed Mosaic Methods: ByAttribute,NorthWest,Center,LockRaster,Nadir,Viewpoint,Seamline,None
SortField: ZOrder
SortValue: 2000
Mosaic Operator: First
Default Compression Quality: 80000
Default Resampling Method: Bilinear
Max Record Count: 1000
Max Image Height: 120000
Max Image Width: 120000
Max Download Image Count: 20
Max Mosaic Image Count: 20
Allow Raster Function: true
Allow Copy: true
Allow Analysis: true
Allow Compute TiePoints: false
Supports Statistics: true
Supports Advanced Queries: true
Use StandardizedQueries: true
Raster Type Infos:
Name: Raster Dataset
Description: Supports all ArcGIS Raster Datasets
Help:
Has Raster Attribute Table: false
Edit Fields Info: null
Ownership Based AccessControl For Rasters: null
Child Resources:
Info
Histograms
Statistics
Key Properties
Legend
Raster Function Infos
Supported Operations:
Export Image
Query
Identify
Measure
Compute Histograms
Compute Statistics Histograms
Get Samples
Compute Class Statistics
Query GPS Info
Find Images
Image to Map
Map to Image
Measure from Image
Image to Map Multiray
Query Boundary
Compute Pixel Location
Compute Angles
Validate
Project
Calculate Volume