View In:
ArcGIS JavaScript
ArcGIS Online Map Viewer
ArcGIS Earth
ArcMap
View Footprint In:
ArcGIS Online Map Viewer
Service Description: DIGITAL_TERRAIN_MODEL_MOSAIC_Layer
Name: lidar/DIGITAL_TERRAIN_MODEL_ELEVATION
Description: DIGITAL_TERRAIN_MODEL_MOSAIC_Layer
Single Fused Map Cache: false
Extent:
XMin: 220748.20833332837
YMin: 10683.041666668141
XMax: 2358182.2083333284
YMax: 1764618.0416666681
Spatial Reference: 102970
(6557)
Initial Extent:
XMin: 220748.20833332837
YMin: 10683.041666668141
XMax: 2358182.2083333284
YMax: 1764618.0416666681
Spatial Reference: 102970
(6557)
Full Extent:
XMin: 220748.20833332837
YMin: 10683.041666668141
XMax: 2358182.2083333284
YMax: 1764618.0416666681
Spatial Reference: 102970
(6557)
Pixel Size X: 3.0
Pixel Size Y: 3.0
Band Count: 3
Pixel Type: U8
RasterFunction Infos: {"rasterFunctionInfos": [{
"name": "None",
"description": "",
"help": ""
}]}
Mensuration Capabilities: Basic
Has Histograms: false
Has Colormap: false
Has Multi Dimensions : false
Rendering Rule:
Min Scale: 0
Max Scale: 0
Copyright Text:
Service Data Type: esriImageServiceDataTypeRGB
Min Values: N/A
Max Values: N/A
Mean Values: N/A
Standard Deviation Values: N/A
Object ID Field:
Fields:
None
Default Mosaic Method: Center
Allowed Mosaic Methods:
SortField:
SortValue: null
Mosaic Operator: First
Default Compression Quality: 75
Default Resampling Method: Bilinear
Max Record Count: null
Max Image Height: 4100
Max Image Width: 15000
Max Download Image Count: null
Max Mosaic Image Count: null
Allow Raster Function: true
Allow Compute TiePoints: false
Supports Statistics: false
Supports Advanced Queries: false
Use StandardizedQueries: true
Raster Type Infos:
Name: Raster Dataset
Description: Supports all ArcGIS Raster Datasets
Help:
Has Raster Attribute Table: false
Edit Fields Info: null
Ownership Based AccessControl For Rasters: null
Child Resources:
Info
Key Properties
Legend
MultiDimensionalInfo
rasterFunctionInfos
Supported Operations:
Export Image
Identify
Measure
Compute Histograms
Compute Statistics Histograms
Get Samples
Compute Class Statistics
Query Boundary
Compute Pixel Location